BEGIN:VCALENDAR
VERSION:2.0
PRODID:-//Den Danske Billard Union - ECPv6.1.3//NONSGML v1.0//EN
CALSCALE:GREGORIAN
METHOD:PUBLISH
X-WR-CALNAME:Den Danske Billard Union
X-ORIGINAL-URL:https://dendanskebillardunion.dk
X-WR-CALDESC:Begivenheder for Den Danske Billard Union
REFRESH-INTERVAL;VALUE=DURATION:PT1H
X-Robots-Tag:noindex
X-PUBLISHED-TTL:PT1H
BEGIN:VTIMEZONE
TZID:Europe/Paris
BEGIN:DAYLIGHT
TZOFFSETFROM:+0100
TZOFFSETTO:+0200
TZNAME:CEST
DTSTART:20150329T010000
END:DAYLIGHT
BEGIN:STANDARD
TZOFFSETFROM:+0200
TZOFFSETTO:+0100
TZNAME:CET
DTSTART:20151025T010000
END:STANDARD
END:VTIMEZONE
BEGIN:VEVENT
DTSTART;TZID=Europe/Paris:20150105T170000
DTEND;TZID=Europe/Paris:20150105T230000
DTSTAMP:20260426T034642
CREATED:20141112T101537Z
LAST-MODIFIED:20141112T101537Z
UID:1701-1420477200-1420498800@dendanskebillardunion.dk
SUMMARY:KBK/BNV 90 År
DESCRIPTION:Reception og opvisningskampe
URL:https://dendanskebillardunion.dk/event/kbkbnv-90-aar/
LOCATION:KBK/BNV\, Hvidkildevej 64\, København NV\, 2400\, Danmark
END:VEVENT
END:VCALENDAR