BEGIN:VCALENDAR
VERSION:2.0
PRODID:-//Den Danske Billard Union - ECPv6.1.3//NONSGML v1.0//EN
CALSCALE:GREGORIAN
METHOD:PUBLISH
X-ORIGINAL-URL:https://dendanskebillardunion.dk
X-WR-CALDESC:Begivenheder for Den Danske Billard Union
REFRESH-INTERVAL;VALUE=DURATION:PT1H
X-Robots-Tag:noindex
X-PUBLISHED-TTL:PT1H
BEGIN:VTIMEZONE
TZID:Europe/Paris
BEGIN:DAYLIGHT
TZOFFSETFROM:+0100
TZOFFSETTO:+0200
TZNAME:CEST
DTSTART:20180325T010000
END:DAYLIGHT
BEGIN:STANDARD
TZOFFSETFROM:+0200
TZOFFSETTO:+0100
TZNAME:CET
DTSTART:20181028T010000
END:STANDARD
END:VTIMEZONE
BEGIN:VEVENT
DTSTART;TZID=Europe/Paris:20180129T173000
DTEND;TZID=Europe/Paris:20180129T193000
DTSTAMP:20260423T191249
CREATED:20171214T111015Z
LAST-MODIFIED:20171214T111015Z
UID:3633-1517247000-1517254200@dendanskebillardunion.dk
SUMMARY:DDBU Dialog møde
DESCRIPTION:
URL:https://dendanskebillardunion.dk/event/ddbu-dialog-moede/
LOCATION:BK Frem\, Brostræde 3-5\, Kolding\, 6000\, Danmark
CATEGORIES:Dialogmøde
ATTACH;FMTTYPE=image/jpeg:https://dendanskebillardunion.dk/wp-content/uploads/DIALOGMØDE-DDBU-2018_Page_1.jpg
END:VEVENT
END:VCALENDAR