BEGIN:VCALENDAR
VERSION:2.0
PRODID:-//Den Danske Billard Union - ECPv6.1.3//NONSGML v1.0//EN
CALSCALE:GREGORIAN
METHOD:PUBLISH
X-ORIGINAL-URL:https://dendanskebillardunion.dk
X-WR-CALDESC:Begivenheder for Den Danske Billard Union
REFRESH-INTERVAL;VALUE=DURATION:PT1H
X-Robots-Tag:noindex
X-PUBLISHED-TTL:PT1H
BEGIN:VTIMEZONE
TZID:Europe/Paris
BEGIN:DAYLIGHT
TZOFFSETFROM:+0100
TZOFFSETTO:+0200
TZNAME:CEST
DTSTART:20170326T010000
END:DAYLIGHT
BEGIN:STANDARD
TZOFFSETFROM:+0200
TZOFFSETTO:+0100
TZNAME:CET
DTSTART:20171029T010000
END:STANDARD
END:VTIMEZONE
BEGIN:VEVENT
DTSTART;VALUE=DATE:20170527
DTEND;VALUE=DATE:20170529
DTSTAMP:20260424T095525
CREATED:20160914T113744Z
LAST-MODIFIED:20160914T123922Z
UID:2878-1495843200-1496015999@dendanskebillardunion.dk
SUMMARY:3 - Bande Tour 8
DESCRIPTION:Tilmeldingskrav: Dansk statsborgerskab\, og minimum 0\,450 i års snit – ved mere end 32 tilmeldinger til en tour vil Elite og Kl. M have fortrinsret\, og det nødvendige antal spillere vil blive siet fra i forhold til tilmeldt gennemsnit.  \nDe 16 bedst placerede på ranglisten er direkte kvalificerede til DM finalen
URL:https://dendanskebillardunion.dk/event/3-bande-tour-8/
LOCATION:ABK 31\, Vesterbro 125\, Aalborg\, 9000\, Danmark
CATEGORIES:3 - Bande Tours
ORGANIZER;CN="DDBU":MAILTO:ddbu@ddbu.dk
END:VEVENT
END:VCALENDAR