BEGIN:VCALENDAR
VERSION:2.0
PRODID:-//Den Danske Billard Union - ECPv6.1.3//NONSGML v1.0//EN
CALSCALE:GREGORIAN
METHOD:PUBLISH
X-ORIGINAL-URL:https://dendanskebillardunion.dk
X-WR-CALDESC:Begivenheder for Den Danske Billard Union
REFRESH-INTERVAL;VALUE=DURATION:PT1H
X-Robots-Tag:noindex
X-PUBLISHED-TTL:PT1H
BEGIN:VTIMEZONE
TZID:Europe/Paris
BEGIN:DAYLIGHT
TZOFFSETFROM:+0100
TZOFFSETTO:+0200
TZNAME:CEST
DTSTART:20160327T010000
END:DAYLIGHT
BEGIN:STANDARD
TZOFFSETFROM:+0200
TZOFFSETTO:+0100
TZNAME:CET
DTSTART:20161030T010000
END:STANDARD
END:VTIMEZONE
BEGIN:VEVENT
DTSTART;VALUE=DATE:20161021
DTEND;VALUE=DATE:20161024
DTSTAMP:20260424T201812
CREATED:20160914T125911Z
LAST-MODIFIED:20160914T125911Z
UID:2883-1477008000-1477267199@dendanskebillardunion.dk
SUMMARY:Euro Grand Prix Cadre 47-2
DESCRIPTION:DDBU har tilmeldt Anders Henriksen Nakskov BK til denne turnering \nOrganized by: CEB\nPlace: Ronchin (FR)\nMaterial: Simonis 300 / Aramith\nDelegate: J.P. Guiraud \n\n\n\n\n\nDATES\n\n\n\nTournament Start\n21. October 2016\n\n\nFinal\n23. October 2016\n\n\nOpening Ceremony\n21. October 2016 – 13:30h\nTournament Place\n\n\nTimeschedule\n20. October 2016 – 18:00 h – Draw Groups\n\n\nfrom 21. October 2016 – 14:00h\nGroups non-stop\n\n\n22. October 2016 -17:15h and 19:00h – 1/8 Finals\n\n\n22. October 2016 -20:45h – ¼ Finals\n\n\n23. October 2016 – 11:00h Semi-finals\n\n\n23. October 2016 – 15:00h – Final\n\n\nDeadline for registration\n22. September 2016\n\n\nMODE\n\n\n\nDresscode\nEuropean Rules for Sports Clothing\n\n\nRules\nCEB Rules – Euro Grand Prix Classic (Cadre 47/2) – 36 players max.\nStrict application of Art. 07.08 of Referee Rules (15 seconds)\n\n\nCloth\nSimonis 300/300 Rapid\n\n\nBalls\nSuper Aramith\n\n\nTournament Director\nJ. P. Guiraud – CEB Sportsdirector\n\n\nInscriptions\nFree inscriptions by e-mail to:\njean-pierre.guiraud@remove-this.eurobillard.org\nwith copy to\npierre.reynaert@remove-this.ffbillard.com\nPriority to:\n– the 24 players of EC 2015 Cadre 47/2 in Brandenburg\n– then depending on the date and hour of inscription (open to all)\n\n\nInvited Players\n– 3 wild cards for the organizer\n\n\nTournament information\nwww.bccoronchin.com\nwww.kozoom.com  (Live)\n\n\nEntry fee \n125\,00 € (directly to the organizer)\n\n\nPRIZE MONEY\n\n\n\n\nPlace 1\n1 600 €\n1 600 €\n\n\nPlace 2\n900 €\n900 €\n\n\nPlace 3 + 3  each\n600 €\n1 200 €\n\n\nPlace 5 – 8  each\n200 €\n800 €\n\n\nPlace 9 -16  each\n125 €\n1 000 €\n\n\n \nTotal:\n5 500 €\n\n\nRANKING POINTS \n(same points as National Championships\, EC points divided by 2)\n\n\nPlace 1\n40 pts\nEC 80 pts\n\n\nPlace 2\n27 pts\nEC 54 pts\n\n\nPlace 3 + 3  each\n19 pts\nEC 38 pts\n\n\nPlace 5 – 8  each\n13 pts\nEC 26 pts\n\n\nPlace 9 -16  each\n8 pts\nEC 16 pts\n\n\nPlace 17 +\n4 pts\nEC 8 pts\n\n\n \n\n\n\n\nDoping controls are possible\nIt is not allowed to smoke in the tournament hall\n\n\n\n\n Location\nBillard Club du Canon d’Or de Ronchin\nStade Léo Lagrange. Salle Elisabeth Dupont.\nRue Pierre Dupont 59790 Ronchin (near Lille) FRANCE\nTel. (00 33) 9 81 67 92 79 \nSee map: Ronchin > near Lille\nBy car: motorway A1 Exit 20 (Faches-Thumesnil\, Ronchin)\nBy train: Lille TGV station – By plane: Lille Airport: 4 kms \n Hotel Information\n\nNOVOTEL\nwww.novotel.com/0427\n55 route de Douai\n59810 Lesquin\nTel (+33)3/20625353\n\nIBIS BUDGET\nFrom 44 euros\n104 Rue Louis Braille\, Ronchin\nTel. (+33)892680307
URL:https://dendanskebillardunion.dk/event/euro-grand-prix-cadre-47-2/
LOCATION:Billard Club du Canon d’Or de Ronchin\, Rue Pierre Dupont 59790 Ronchin \, France
END:VEVENT
BEGIN:VEVENT
DTSTART;VALUE=DATE:20161022
DTEND;VALUE=DATE:20161024
DTSTAMP:20260424T201812
CREATED:20160914T113427Z
LAST-MODIFIED:20160914T113850Z
UID:2872-1477094400-1477267199@dendanskebillardunion.dk
SUMMARY:3 - Bande Tour 3
DESCRIPTION:Tilmeldingskrav: Dansk statsborgerskab\, og minimum 0\,450 i års snit – ved mere end 32 tilmeldinger til en tour vil Elite og Kl. M have fortrinsret\, og det nødvendige antal spillere vil blive siet fra i forhold til tilmeldt gennemsnit.  \nDe 16 bedst placerede på ranglisten er direkte kvalificerede til DM finalen
URL:https://dendanskebillardunion.dk/event/3-bande-tour-3/
LOCATION:Bristol – Odense\, Stadionvej 50 F\, Odense V\, 5200
CATEGORIES:3 - Bande Tours
END:VEVENT
END:VCALENDAR