BEGIN:VCALENDAR
VERSION:2.0
PRODID:-//Den Danske Billard Union - ECPv6.1.3//NONSGML v1.0//EN
CALSCALE:GREGORIAN
METHOD:PUBLISH
X-WR-CALNAME:Den Danske Billard Union
X-ORIGINAL-URL:https://dendanskebillardunion.dk
X-WR-CALDESC:Begivenheder for Den Danske Billard Union
REFRESH-INTERVAL;VALUE=DURATION:PT1H
X-Robots-Tag:noindex
X-PUBLISHED-TTL:PT1H
BEGIN:VTIMEZONE
TZID:Europe/Paris
BEGIN:DAYLIGHT
TZOFFSETFROM:+0100
TZOFFSETTO:+0200
TZNAME:CEST
DTSTART:20160327T010000
END:DAYLIGHT
BEGIN:STANDARD
TZOFFSETFROM:+0200
TZOFFSETTO:+0100
TZNAME:CET
DTSTART:20161030T010000
END:STANDARD
END:VTIMEZONE
BEGIN:VEVENT
DTSTART;TZID=Europe/Paris:20160130T100000
DTEND;TZID=Europe/Paris:20160131T100000
DTSTAMP:20260425T121917
CREATED:20160105T063514Z
LAST-MODIFIED:20160105T063514Z
UID:2457-1454148000-1454234400@dendanskebillardunion.dk
SUMMARY:SNOOKER GP-4 FINALE
DESCRIPTION:Godt nytår til alle! Husk at tilmelde jer til næste turnering\, GP 4\, som spilles i Esbjerg BC på deres nye Star-borde. Indledende runde spilles 16. og 17. januar\, og finalerunden spilles d. 30. og 31. januar. Ved mere end 28 tilmeldte splittes kvalifikationen op i to halvdele. Den anden halvdel bliver spillet i Bristol Odense.
URL:https://dendanskebillardunion.dk/event/snooker-gp-4-finale/
LOCATION:Esbjerg BC\, Skanderborgvej 10\, 6700  Esbjerg\, 6700\, Danmark
CATEGORIES:Snooker Tours
ATTACH;FMTTYPE=image/jpeg:https://dendanskebillardunion.dk/wp-content/uploads/Snooker3.jpg
END:VEVENT
END:VCALENDAR