BEGIN:VCALENDAR
VERSION:2.0
PRODID:-//Den Danske Billard Union - ECPv6.1.3//NONSGML v1.0//EN
CALSCALE:GREGORIAN
METHOD:PUBLISH
X-ORIGINAL-URL:https://dendanskebillardunion.dk
X-WR-CALDESC:Begivenheder for Den Danske Billard Union
REFRESH-INTERVAL;VALUE=DURATION:PT1H
X-Robots-Tag:noindex
X-PUBLISHED-TTL:PT1H
BEGIN:VTIMEZONE
TZID:Europe/Paris
BEGIN:DAYLIGHT
TZOFFSETFROM:+0100
TZOFFSETTO:+0200
TZNAME:CEST
DTSTART:20150329T010000
END:DAYLIGHT
BEGIN:STANDARD
TZOFFSETFROM:+0200
TZOFFSETTO:+0100
TZNAME:CET
DTSTART:20151025T010000
END:STANDARD
END:VTIMEZONE
BEGIN:VEVENT
DTSTART;VALUE=DATE:20150508
DTEND;VALUE=DATE:20150511
DTSTAMP:20260425T233603
CREATED:20150401T131933Z
LAST-MODIFIED:20150506T053711Z
UID:1876-1431043200-1431302399@dendanskebillardunion.dk
SUMMARY:Master Class i KBK/BNV
DESCRIPTION:Program for Master Class d 8 – 10 maj 2015 \nMASTER_CLASS \n  \n 
URL:https://dendanskebillardunion.dk/event/master-class-i-kbkbnv/
LOCATION:KBK/BNV\, Hvidkildevej 64\, København NV\, 2400\, Danmark
ATTACH;FMTTYPE=image/jpeg:https://dendanskebillardunion.dk/wp-content/uploads/DJ.jpg
END:VEVENT
BEGIN:VEVENT
DTSTART;VALUE=DATE:20150509
DTEND;VALUE=DATE:20150510
DTSTAMP:20260425T233603
CREATED:20150423T070725Z
LAST-MODIFIED:20150423T070725Z
UID:1907-1431129600-1431215999@dendanskebillardunion.dk
SUMMARY:Slutspil i JBM Ligaen 3-Bande
DESCRIPTION:SLUTSPIL_3B_2015
URL:https://dendanskebillardunion.dk/event/slutspil-i-jbm-ligaen-3-bande/
LOCATION:Bristol – Odense\, Stadionvej 50 F\, Odense V\, 5200
ORGANIZER;CN="Bristol-Odense":MAILTO:bristol@sport.dk
END:VEVENT
END:VCALENDAR