BEGIN:VCALENDAR
VERSION:2.0
PRODID:-//Den Danske Billard Union - ECPv6.1.3//NONSGML v1.0//EN
CALSCALE:GREGORIAN
METHOD:PUBLISH
X-WR-CALNAME:Den Danske Billard Union
X-ORIGINAL-URL:https://dendanskebillardunion.dk
X-WR-CALDESC:Begivenheder for Den Danske Billard Union
REFRESH-INTERVAL;VALUE=DURATION:PT1H
X-Robots-Tag:noindex
X-PUBLISHED-TTL:PT1H
BEGIN:VTIMEZONE
TZID:Europe/Paris
BEGIN:DAYLIGHT
TZOFFSETFROM:+0100
TZOFFSETTO:+0200
TZNAME:CEST
DTSTART:20150329T010000
END:DAYLIGHT
BEGIN:STANDARD
TZOFFSETFROM:+0200
TZOFFSETTO:+0100
TZNAME:CET
DTSTART:20151025T010000
END:STANDARD
END:VTIMEZONE
BEGIN:VEVENT
DTSTART;TZID=Europe/Paris:20150501T110000
DTEND;TZID=Europe/Paris:20150501T150000
DTSTAMP:20260425T233409
CREATED:20140910T084446Z
LAST-MODIFIED:20140910T085118Z
UID:1577-1430478000-1430492400@dendanskebillardunion.dk
SUMMARY:CEB Årsmøde
DESCRIPTION:
URL:https://dendanskebillardunion.dk/event/ceb-arsmode/
LOCATION:Stahlpalads\, Brandenburg a.d.Havel\, Germany
CATEGORIES:Møder udenlandske forbund
END:VEVENT
END:VCALENDAR