BEGIN:VCALENDAR
VERSION:2.0
PRODID:-//Den Danske Billard Union - ECPv6.1.3//NONSGML v1.0//EN
CALSCALE:GREGORIAN
METHOD:PUBLISH
X-ORIGINAL-URL:https://dendanskebillardunion.dk
X-WR-CALDESC:Begivenheder for Den Danske Billard Union
REFRESH-INTERVAL;VALUE=DURATION:PT1H
X-Robots-Tag:noindex
X-PUBLISHED-TTL:PT1H
BEGIN:VTIMEZONE
TZID:Europe/Paris
BEGIN:DAYLIGHT
TZOFFSETFROM:+0100
TZOFFSETTO:+0200
TZNAME:CEST
DTSTART:20150329T010000
END:DAYLIGHT
BEGIN:STANDARD
TZOFFSETFROM:+0200
TZOFFSETTO:+0100
TZNAME:CET
DTSTART:20151025T010000
END:STANDARD
END:VTIMEZONE
BEGIN:VEVENT
DTSTART;TZID=Europe/Paris:20150307T100000
DTEND;TZID=Europe/Paris:20150308T150000
DTSTAMP:20260426T034831
CREATED:20150306T120300Z
LAST-MODIFIED:20150306T120421Z
UID:1818-1425722400-1425826800@dendanskebillardunion.dk
SUMMARY:DM 1-Bande Carambole
DESCRIPTION:DM_1B_Finale_2015
URL:https://dendanskebillardunion.dk/event/dm-1-bande-carambole/
LOCATION:Næstved BK\, Helgesvej 36\, Herlufmagle\, 4160
CATEGORIES:Danske Mesterskaber
END:VEVENT
END:VCALENDAR